BEGIN:VCALENDAR
VERSION:2.0
PRODID:-//Ann Arbor Art Center - ECPv6.15.20//NONSGML v1.0//EN
CALSCALE:GREGORIAN
METHOD:PUBLISH
X-ORIGINAL-URL:https://www.annarborartcenter.org
X-WR-CALDESC:Events for Ann Arbor Art Center
REFRESH-INTERVAL;VALUE=DURATION:PT1H
X-Robots-Tag:noindex
X-PUBLISHED-TTL:PT1H
BEGIN:VTIMEZONE
TZID:America/Detroit
BEGIN:DAYLIGHT
TZOFFSETFROM:-0500
TZOFFSETTO:-0400
TZNAME:EDT
DTSTART:20220313T070000
END:DAYLIGHT
BEGIN:STANDARD
TZOFFSETFROM:-0400
TZOFFSETTO:-0500
TZNAME:EST
DTSTART:20221106T060000
END:STANDARD
BEGIN:DAYLIGHT
TZOFFSETFROM:-0500
TZOFFSETTO:-0400
TZNAME:EDT
DTSTART:20230312T070000
END:DAYLIGHT
BEGIN:STANDARD
TZOFFSETFROM:-0400
TZOFFSETTO:-0500
TZNAME:EST
DTSTART:20231105T060000
END:STANDARD
BEGIN:DAYLIGHT
TZOFFSETFROM:-0500
TZOFFSETTO:-0400
TZNAME:EDT
DTSTART:20240310T070000
END:DAYLIGHT
BEGIN:STANDARD
TZOFFSETFROM:-0400
TZOFFSETTO:-0500
TZNAME:EST
DTSTART:20241103T060000
END:STANDARD
END:VTIMEZONE
BEGIN:VEVENT
DTSTART;TZID=America/Detroit:20230420T150000
DTEND;TZID=America/Detroit:20230420T180000
DTSTAMP:20260424T040939
CREATED:20230405T182430Z
LAST-MODIFIED:20230413T181708Z
UID:10000025-1682002800-1682013600@www.annarborartcenter.org
SUMMARY:Tsuru for Solidarity Paper Crane Drop-In
DESCRIPTION:In conjunction with IS/LAND performance collaborative\, join us in the A2AC Gallery to it. This free drop-in series will teach you how to fold the cranes\, which will be included in IS/LAND's Tsuru for Solidarity Tree at the Ann Arbor District Library's downtown branch in May. Later this summer\, all cranes will be transported down to the U.S./Mexico border to be part of the national Tsuru for Solidarity project. \n\n\n\nAll supplies will be provided. This drop-in is best for ages 9 years and up. \n\n\n\nProducts by Bløm Meadworks available during the event. \n\n\n\n\n\n \n\n\n\n\nGO TO SATURDAY'S DROP-IN
URL:https://www.annarborartcenter.org/event/tsuru-for-solidarity-paper-crane-drop-in-2/
LOCATION:A2AC Gallery\, 117 W Liberty\, Ann Arbor\, MI\, 48104\, United States
CATEGORIES:Free Family Drop-Ins
ATTACH;FMTTYPE=image/jpeg:https://www.annarborartcenter.org/wp-content/uploads/2023/03/ISLAND-events-paper-crane-drop-in-1.jpg
END:VEVENT
END:VCALENDAR