BEGIN:VCALENDAR
VERSION:2.0
PRODID:-//Ann Arbor Art Center - ECPv6.15.20//NONSGML v1.0//EN
CALSCALE:GREGORIAN
METHOD:PUBLISH
X-ORIGINAL-URL:https://www.annarborartcenter.org
X-WR-CALDESC:Events for Ann Arbor Art Center
REFRESH-INTERVAL;VALUE=DURATION:PT1H
X-Robots-Tag:noindex
X-PUBLISHED-TTL:PT1H
BEGIN:VTIMEZONE
TZID:America/Detroit
BEGIN:DAYLIGHT
TZOFFSETFROM:-0500
TZOFFSETTO:-0400
TZNAME:EDT
DTSTART:20220313T070000
END:DAYLIGHT
BEGIN:STANDARD
TZOFFSETFROM:-0400
TZOFFSETTO:-0500
TZNAME:EST
DTSTART:20221106T060000
END:STANDARD
BEGIN:DAYLIGHT
TZOFFSETFROM:-0500
TZOFFSETTO:-0400
TZNAME:EDT
DTSTART:20230312T070000
END:DAYLIGHT
BEGIN:STANDARD
TZOFFSETFROM:-0400
TZOFFSETTO:-0500
TZNAME:EST
DTSTART:20231105T060000
END:STANDARD
BEGIN:DAYLIGHT
TZOFFSETFROM:-0500
TZOFFSETTO:-0400
TZNAME:EDT
DTSTART:20240310T070000
END:DAYLIGHT
BEGIN:STANDARD
TZOFFSETFROM:-0400
TZOFFSETTO:-0500
TZNAME:EST
DTSTART:20241103T060000
END:STANDARD
END:VTIMEZONE
BEGIN:VEVENT
DTSTART;TZID=America/Detroit:20230914T173000
DTEND;TZID=America/Detroit:20230914T220000
DTSTAMP:20260421T110528
CREATED:20230808T165704Z
LAST-MODIFIED:20230811T151426Z
UID:10000056-1694712600-1694728800@www.annarborartcenter.org
SUMMARY:A2AC Gala
DESCRIPTION:The A2AC Gala: Thriving in Transition will be on September 14\, 2023\, from 5:30 to 10 p.m. at Venue 4M in Ann Arbor\, with proceeds directly supporting the organization’s art education and scholarship program. New for this year\, the event's cocktail happy hour is available as a stand-alone opportunity to support the A2AC\, with a ticket price of $100. Tickets for the A2AC dinner are $300 and include the cocktail happy hour. \n\n\n\n\nLearn More & Purchase Tickets Here
URL:https://www.annarborartcenter.org/event/a2ac-gala/
LOCATION:A2AC (Ann Arbor Art Center)\, 117 W Liberty\, Ann Arbor\, MI\, 48104\, United States
CATEGORIES:Fundraiser
ATTACH;FMTTYPE=image/jpeg:https://www.annarborartcenter.org/wp-content/uploads/2023/08/Gala-23-event.jpg
END:VEVENT
END:VCALENDAR