BEGIN:VCALENDAR
VERSION:2.0
PRODID:-//Ann Arbor Art Center - ECPv6.15.20//NONSGML v1.0//EN
CALSCALE:GREGORIAN
METHOD:PUBLISH
X-WR-CALNAME:Ann Arbor Art Center
X-ORIGINAL-URL:https://www.annarborartcenter.org
X-WR-CALDESC:Events for Ann Arbor Art Center
REFRESH-INTERVAL;VALUE=DURATION:PT1H
X-Robots-Tag:noindex
X-PUBLISHED-TTL:PT1H
BEGIN:VTIMEZONE
TZID:America/Detroit
BEGIN:DAYLIGHT
TZOFFSETFROM:-0500
TZOFFSETTO:-0400
TZNAME:EDT
DTSTART:20220313T070000
END:DAYLIGHT
BEGIN:STANDARD
TZOFFSETFROM:-0400
TZOFFSETTO:-0500
TZNAME:EST
DTSTART:20221106T060000
END:STANDARD
BEGIN:DAYLIGHT
TZOFFSETFROM:-0500
TZOFFSETTO:-0400
TZNAME:EDT
DTSTART:20230312T070000
END:DAYLIGHT
BEGIN:STANDARD
TZOFFSETFROM:-0400
TZOFFSETTO:-0500
TZNAME:EST
DTSTART:20231105T060000
END:STANDARD
BEGIN:DAYLIGHT
TZOFFSETFROM:-0500
TZOFFSETTO:-0400
TZNAME:EDT
DTSTART:20240310T070000
END:DAYLIGHT
BEGIN:STANDARD
TZOFFSETFROM:-0400
TZOFFSETTO:-0500
TZNAME:EST
DTSTART:20241103T060000
END:STANDARD
END:VTIMEZONE
BEGIN:VEVENT
DTSTART;TZID=America/Detroit:20231108T110000
DTEND;TZID=America/Detroit:20231108T110000
DTSTAMP:20260425T133401
CREATED:20231011T121425Z
LAST-MODIFIED:20231107T132454Z
UID:10000072-1699441200-1699441200@www.annarborartcenter.org
SUMMARY:Harvest Stories with Laura Raynor
DESCRIPTION:The A2AC Gallery hosts Ann Arbor's beloved storyteller Laura Raynor for a special themed storytime featuring "Harvest Stories." Join us for a morning of puppets\, movement\, and autumn fun. Best for babies through 6 years of age with their caregivers. \n\n\n\nThis programming is a part of the A2AC Kinfolk Series\, a free\, week-long event series hosted in the A2AC Gallery for young people and their caregivers\, featuring storytimes\, music and movement programs\, and more! \n\n\n\n\nREGISTER HERE\n\n\n\n\n\n\n\n\n\nLEARN MORE ABOUT A2AC KINFOLK SERIES
URL:https://www.annarborartcenter.org/event/harvest-stories-with-laura-raynor/
LOCATION:A2AC Gallery\, 117 W Liberty\, Ann Arbor\, MI\, 48104\, United States
CATEGORIES:Exhibitions,Free Family Drop-Ins
ATTACH;FMTTYPE=image/jpeg:https://www.annarborartcenter.org/wp-content/uploads/2023/10/Harvest-Stories-Nov-23-events.jpg
END:VEVENT
END:VCALENDAR