BEGIN:VCALENDAR
VERSION:2.0
PRODID:-//Ann Arbor Art Center - ECPv6.15.20//NONSGML v1.0//EN
CALSCALE:GREGORIAN
METHOD:PUBLISH
X-WR-CALNAME:Ann Arbor Art Center
X-ORIGINAL-URL:https://www.annarborartcenter.org
X-WR-CALDESC:Events for Ann Arbor Art Center
REFRESH-INTERVAL;VALUE=DURATION:PT1H
X-Robots-Tag:noindex
X-PUBLISHED-TTL:PT1H
BEGIN:VTIMEZONE
TZID:America/Detroit
BEGIN:DAYLIGHT
TZOFFSETFROM:-0500
TZOFFSETTO:-0400
TZNAME:EDT
DTSTART:20240310T070000
END:DAYLIGHT
BEGIN:STANDARD
TZOFFSETFROM:-0400
TZOFFSETTO:-0500
TZNAME:EST
DTSTART:20241103T060000
END:STANDARD
BEGIN:DAYLIGHT
TZOFFSETFROM:-0500
TZOFFSETTO:-0400
TZNAME:EDT
DTSTART:20250309T070000
END:DAYLIGHT
BEGIN:STANDARD
TZOFFSETFROM:-0400
TZOFFSETTO:-0500
TZNAME:EST
DTSTART:20251102T060000
END:STANDARD
BEGIN:DAYLIGHT
TZOFFSETFROM:-0500
TZOFFSETTO:-0400
TZNAME:EDT
DTSTART:20260308T070000
END:DAYLIGHT
BEGIN:STANDARD
TZOFFSETFROM:-0400
TZOFFSETTO:-0500
TZNAME:EST
DTSTART:20261101T060000
END:STANDARD
END:VTIMEZONE
BEGIN:VEVENT
DTSTART;TZID=America/Detroit:20250425T070000
DTEND;TZID=America/Detroit:20250616T080000
DTSTAMP:20260425T133417
CREATED:20250328T191749Z
LAST-MODIFIED:20260420T160317Z
UID:10000190-1745564400-1750060800@www.annarborartcenter.org
SUMMARY:Artini 2025 Tickets on Sale for ALL
DESCRIPTION:🎶🍸 Artini is back—and it’s hitting all the right notes! 🍸🎶 \n\n\n\nJoin us on Saturday\, June 21 for Artini\, Downtown Ann Arbor’s favorite summer cocktail crawl and fundraiser! This year\, we’re mixing things up with a melodic twist to celebrate alongside AADL’s Make Music Ann Arbor—making for one unforgettable night of sips and sounds. \n\n\n\nJoin Ann Arbor’s top bars and restaurants as they shake and stir their take on the most musical martini. Wander the closed-off\, sun-soaked streets of Main Street and beyond\, enjoy live performances\, and cast your vote for your favorite cocktail creation! \n\n\n\nLet’s raise a glass to good vibes\, great drinks\, and a city that knows how to throw a summer party. Cheers! \n\n\n\n\n\n\n\n\nLEARN MORE & BUY TICKETS TODAY\n\n\n\n\n\n\n\n\nPresented by \n\n\n\n\n\n\n\n\n\n\n\nWith support from \n\n\n\n\n\n\n\nWith support from \n\n\n\n\n\n\n\n\n\n\nSEE PICTURES FROM ARTINI 2024
URL:https://www.annarborartcenter.org/event/artini-2025-tickets-on-sale-for-all/
LOCATION:MI
CATEGORIES:Fundraiser
ATTACH;FMTTYPE=image/jpeg:https://www.annarborartcenter.org/wp-content/uploads/2025/03/Artini-25-preview-events-2.jpg
END:VEVENT
BEGIN:VEVENT
DTSTART;TZID=America/Detroit:20250516T070000
DTEND;TZID=America/Detroit:20250711T070000
DTSTAMP:20260425T133417
CREATED:20250423T143939Z
LAST-MODIFIED:20250423T144025Z
UID:10000197-1747378800-1752217200@www.annarborartcenter.org
SUMMARY:Summer Art Classes Open for ALL
DESCRIPTION:🎨 Brush up on summer fun with the A2AC with a Summer Art Class! ☀️ \n\n\n\nRegistration opens for Members on Wednesday\, May 14\, at 7am\, with general registration opening for all on Friday\, May 16\, at 7am. \n\n\n\nTune into a Sneak Peek on May 12 to see what creative joys we have in store for you before registration opens. \n\n\n\n\nBECOME A MEMBER\n\n\n\n\n\n\n\n\n\nSEE ALL UPCOMING CLASSES
URL:https://www.annarborartcenter.org/event/summer-term-25-open-for-all/
LOCATION:MI
CATEGORIES:Education Term Launches
ATTACH;FMTTYPE=image/jpeg:https://www.annarborartcenter.org/wp-content/uploads/2025/04/Summer-Term-25-ALL-event.jpg
END:VEVENT
BEGIN:VEVENT
DTSTART;TZID=America/Detroit:20250610T170000
DTEND;TZID=America/Detroit:20250610T200000
DTSTAMP:20260425T133417
CREATED:20250521T160059Z
LAST-MODIFIED:20250521T160103Z
UID:10000210-1749574800-1749585600@www.annarborartcenter.org
SUMMARY:Summer Open Studio: Oil and Acrylic Painting
DESCRIPTION:Bring your work to the A2AC and get creative in one of our beautiful brick-walled studios. These open studio sessions are for painters working in oil and/or acrylics who want dedicated working time in a studio space with a community-centered environment. A skilled monitor will be in each session to answer questions\, provide assistance\, and help with proper waste disposal. \n\n\n\nAll artists must bring their own supplies and materials. The A2AC will provide large standing easels\, tabletop easels\, odorless mineral spirits\, and spirit containers\, and we will have a selection of brushes on hand for participants to borrow if needed. Students are responsible for their own clean-up. \n\n\n\nSessions will take place on the second Tuesday and Wednesday of June\, July\, and August. The dates are as follows: \n\n\n\nJune 10 & 11 (5-8pm)July 8 & 9 (5-8pm)August 12 & 13 (5-8pm) \n\n\n\nPlease note: These drop-ins exist on a first-come\, first-served basis; there is no prior registration available. Participants can pay the open studio fee at the front desk. The studios combined can hold a total of 20 people at a time. We will not admit students after 7:00pm. \n\n\n\nPrice: $10 for members and $15 for non-members \n\n\n\nLocation: Studio 301 & 302
URL:https://www.annarborartcenter.org/event/summer-open-studio-oil-and-acrylic-painting-6-10/
LOCATION:A2AC (Ann Arbor Art Center)\, 117 W Liberty\, Ann Arbor\, MI\, 48104\, United States
CATEGORIES:Open Studio
ATTACH;FMTTYPE=image/jpeg:https://www.annarborartcenter.org/wp-content/uploads/2025/05/Summer-Studio-Painting-25-Events.jpg
END:VEVENT
END:VCALENDAR