BEGIN:VCALENDAR
VERSION:2.0
PRODID:-//Ann Arbor Art Center - ECPv6.15.20//NONSGML v1.0//EN
CALSCALE:GREGORIAN
METHOD:PUBLISH
X-ORIGINAL-URL:https://www.annarborartcenter.org
X-WR-CALDESC:Events for Ann Arbor Art Center
REFRESH-INTERVAL;VALUE=DURATION:PT1H
X-Robots-Tag:noindex
X-PUBLISHED-TTL:PT1H
BEGIN:VTIMEZONE
TZID:America/Detroit
BEGIN:DAYLIGHT
TZOFFSETFROM:-0500
TZOFFSETTO:-0400
TZNAME:EDT
DTSTART:20250309T070000
END:DAYLIGHT
BEGIN:STANDARD
TZOFFSETFROM:-0400
TZOFFSETTO:-0500
TZNAME:EST
DTSTART:20251102T060000
END:STANDARD
BEGIN:DAYLIGHT
TZOFFSETFROM:-0500
TZOFFSETTO:-0400
TZNAME:EDT
DTSTART:20260308T070000
END:DAYLIGHT
BEGIN:STANDARD
TZOFFSETFROM:-0400
TZOFFSETTO:-0500
TZNAME:EST
DTSTART:20261101T060000
END:STANDARD
BEGIN:DAYLIGHT
TZOFFSETFROM:-0500
TZOFFSETTO:-0400
TZNAME:EDT
DTSTART:20270314T070000
END:DAYLIGHT
BEGIN:STANDARD
TZOFFSETFROM:-0400
TZOFFSETTO:-0500
TZNAME:EST
DTSTART:20271107T060000
END:STANDARD
END:VTIMEZONE
BEGIN:VEVENT
DTSTART;TZID=America/Detroit:20260101T120000
DTEND;TZID=America/Detroit:20261231T120000
DTSTAMP:20260422T062545
CREATED:20260105T194628Z
LAST-MODIFIED:20260217T193702Z
UID:10000267-1767268800-1798718400@www.annarborartcenter.org
SUMMARY:Open Studio: Figure Drawing (Nude)
DESCRIPTION:Click to see all upcoming Figure Drawing sessions. \n\n\n\nJoin us for a figure drawing open studio\, where artists of all levels can explore their creativity through live figure drawing. Whether you're looking to hone your skills or simply enjoy a relaxing session of creative expression\, our drop-in events offer the perfect opportunity to practice in a supportive environment.
URL:https://www.annarborartcenter.org/event/open-studio-figure-drawing-2026/
LOCATION:MI
CATEGORIES:Education,Open Studio
ATTACH;FMTTYPE=image/jpeg:https://www.annarborartcenter.org/wp-content/uploads/2026/01/Figure-Drawing-Events-1.jpg
END:VEVENT
BEGIN:VEVENT
DTSTART;TZID=America/Detroit:20260201T120000
DTEND;TZID=America/Detroit:20260201T150000
DTSTAMP:20260422T062545
CREATED:20260119T193637Z
LAST-MODIFIED:20260122T192037Z
UID:10000268-1769947200-1769958000@www.annarborartcenter.org
SUMMARY:PlayLab: Paint Like Bob Ross
DESCRIPTION:Students aged 8–12\, along with their caregivers\, are invited to join Certified Bob Ross Instructor Ted Simpson for a special PlayLab designed for young\, aspiring artists. In this hands-on workshop\, caregivers and students will paint together on a shared canvas\, learning new techniques while discovering the joy of turning imagination and dreams into art. \n\n\n\nGuided in the calm\, encouraging Bob Ross style\, participants of all skill levels will explore beginner-friendly painting methods\, embrace “happy little accidents\,” and enjoy a relaxed and creative experience. No prior painting experience needed—just bring your curiosity and creativity! \n\n\n\nFree with registration! \n\n\n\n\nREGISTER HERE\n\n\n\n\n\n\n\n\n\nLEARN ABOUT TED SIMPSON\n\n\n\n\n\n\n\n\nA2AC PlayLab is supported by a grant from
URL:https://www.annarborartcenter.org/event/playlab-paint-like-bob-ross/
LOCATION:A2AC Gallery\, 117 W Liberty\, Ann Arbor\, MI\, 48104\, United States
CATEGORIES:A2AC PlayLab
ATTACH;FMTTYPE=image/jpeg:https://www.annarborartcenter.org/wp-content/uploads/2026/01/PlayLab-Feb-26-Events.jpg
END:VEVENT
BEGIN:VEVENT
DTSTART;TZID=America/Detroit:20260205T070000
DTEND;TZID=America/Detroit:20260308T210000
DTSTAMP:20260422T062545
CREATED:20260205T160806Z
LAST-MODIFIED:20260205T160934Z
UID:10000274-1770274800-1773003600@www.annarborartcenter.org
SUMMARY:Call for Public Art: Bronze Figure of Kathy Kozachenko
DESCRIPTION:Call for Public Art: Bronze Figure of Kathy Kozachenko \n\n\n\nDeadline: March 8\, 2026 \n\n\n\nLocation: Ann Arbor\, MI \n\n\n\nThe City of Ann Arbor invites qualified bronze artists or artist teams to submit qualifications to design\, fabricate\, and install a bronze figure of Kathy Kozachenko in front of Larcom City Hall at 301 E. Huron Street\, Ann Arbor\, Michigan. Kathy Kozachenko made history on April 2\, 1974 by successfully running for elective office as the first openly gay or lesbian candidate in the United States. This public art commission is part of the City of Ann Arbor’s Bicentennial celebration in 2024 and reflects a City Council resolution to recognize Kathy Kozachenko’s contributions to public service\, civil rights\, and the LGBTQ+ community\, coinciding with the City’s 200th anniversary and the 50th anniversary of her election as an Ann Arbor council member. \n\n\n\n\nLEARN MORE
URL:https://www.annarborartcenter.org/event/call-for-public-art-bronze-figure-of-kathy-kozachenko-event/
LOCATION:MI
CATEGORIES:Art in Public
ATTACH;FMTTYPE=image/jpeg:https://www.annarborartcenter.org/wp-content/uploads/2026/02/Kathy-K-Call-Event.jpg
END:VEVENT
BEGIN:VEVENT
DTSTART;TZID=America/Detroit:20260213T110000
DTEND;TZID=America/Detroit:20260213T140000
DTSTAMP:20260422T062545
CREATED:20260119T204948Z
LAST-MODIFIED:20260119T205034Z
UID:10000269-1770980400-1770991200@www.annarborartcenter.org
SUMMARY:Heart-Shaped Accordion Cards Free Drop-In
DESCRIPTION:Drop into the A2AC Main Gallery this Valentine's Day and make your own heart-shaped accordion cards using a variety of provided materials! \n\n\n\nThis event is free and open to all ages. All children under the age of 12 must be accompanied by an adult.
URL:https://www.annarborartcenter.org/event/heart-shaped-accordion-cards-free-drop-in/
LOCATION:A2AC Gallery\, 117 W Liberty\, Ann Arbor\, MI\, 48104\, United States
CATEGORIES:Free Family Drop-Ins
ATTACH;FMTTYPE=image/jpeg:https://www.annarborartcenter.org/wp-content/uploads/2026/01/VDay-Cards-26-Events.jpg
END:VEVENT
BEGIN:VEVENT
DTSTART;TZID=America/Detroit:20260218T070000
DTEND;TZID=America/Detroit:20260220T000000
DTSTAMP:20260422T062545
CREATED:20260130T215338Z
LAST-MODIFIED:20260130T215511Z
UID:10000272-1771398000-1771545600@www.annarborartcenter.org
SUMMARY:Spring Art Classes Open for Members
DESCRIPTION:2026 Spring Art Classes are coming! Get your memberships in order for our early Members launch on Wednesday\, February 18\, at 7am. If you're not a Member yet\, please consider that as another way to support your Art Center. Not only does an A2AC Membership get you early access to the classes you want\, but it also helps strengthen one of the hubs for our creative community. \n\n\n\n\n\n\n\n\nBECOME A MEMBER TODAY
URL:https://www.annarborartcenter.org/event/2026-spring-art-classes-open-for-members/
LOCATION:MI
CATEGORIES:Education Term Launches
ATTACH;FMTTYPE=image/jpeg:https://www.annarborartcenter.org/wp-content/uploads/2026/01/ST26-COMING-Events.jpg
END:VEVENT
BEGIN:VEVENT
DTSTART;TZID=America/Detroit:20260220T070000
DTEND;TZID=America/Detroit:20260223T050000
DTSTAMP:20260422T062545
CREATED:20260130T220246Z
LAST-MODIFIED:20260130T220248Z
UID:10000273-1771570800-1771822800@www.annarborartcenter.org
SUMMARY:Spring Art Classes Open for ALL
DESCRIPTION:Spring Art Classes in Ann Arbor opens to the public on Friday\, February 20\, at 7am. Whether it's spinning on the wheel\, putting paint to paper\, making a new piece of wearable jewelry\, or coming together for a fun date night\, the A2AC has what you need. \n\n\n\nSneak Peek starts February 16! Early Member pre-sale goes into effect on Wednesday\, February 18. \n\n\n\n\n\n\n\n\nSEE ALL UPCOMING CLASSES HERE\n\n\n\n\n\n\n\n\n\nBECOME A MEMBER HERE
URL:https://www.annarborartcenter.org/event/2026-spring-art-classes-open-for-all/
LOCATION:MI
CATEGORIES:Education Term Launches
ATTACH;FMTTYPE=image/jpeg:https://www.annarborartcenter.org/wp-content/uploads/2026/01/ST26-HERE-Events.jpg
END:VEVENT
END:VCALENDAR