BEGIN:VCALENDAR
VERSION:2.0
PRODID:-//Ann Arbor Art Center - ECPv6.15.20//NONSGML v1.0//EN
CALSCALE:GREGORIAN
METHOD:PUBLISH
X-ORIGINAL-URL:https://www.annarborartcenter.org
X-WR-CALDESC:Events for Ann Arbor Art Center
REFRESH-INTERVAL;VALUE=DURATION:PT1H
X-Robots-Tag:noindex
X-PUBLISHED-TTL:PT1H
BEGIN:VTIMEZONE
TZID:America/Detroit
BEGIN:DAYLIGHT
TZOFFSETFROM:-0500
TZOFFSETTO:-0400
TZNAME:EDT
DTSTART:20220313T070000
END:DAYLIGHT
BEGIN:STANDARD
TZOFFSETFROM:-0400
TZOFFSETTO:-0500
TZNAME:EST
DTSTART:20221106T060000
END:STANDARD
BEGIN:DAYLIGHT
TZOFFSETFROM:-0500
TZOFFSETTO:-0400
TZNAME:EDT
DTSTART:20230312T070000
END:DAYLIGHT
BEGIN:STANDARD
TZOFFSETFROM:-0400
TZOFFSETTO:-0500
TZNAME:EST
DTSTART:20231105T060000
END:STANDARD
BEGIN:DAYLIGHT
TZOFFSETFROM:-0500
TZOFFSETTO:-0400
TZNAME:EDT
DTSTART:20240310T070000
END:DAYLIGHT
BEGIN:STANDARD
TZOFFSETFROM:-0400
TZOFFSETTO:-0500
TZNAME:EST
DTSTART:20241103T060000
END:STANDARD
END:VTIMEZONE
BEGIN:VEVENT
DTSTART;TZID=America/Detroit:20230505T170000
DTEND;TZID=America/Detroit:20230505T200000
DTSTAMP:20260420T083928
CREATED:20230406T154212Z
LAST-MODIFIED:20230418T123811Z
UID:10000034-1683306000-1683316800@www.annarborartcenter.org
SUMMARY:Awake! Printmaking in Action Opening Reception at the A2AC
DESCRIPTION:The A2AC celebrates Awake! Printmaking in Action at the A2AC Spotlight Gallery on May 5\, in conjunction with the opening of Maternal Interior at the A2AC Gallery\, as well as the First Fridays Gallery Hop in Ann Arbor\, featuring various galleries around the city. \n\n\n\nAwake! Printmaking in Action showcases the current visual language of activist movements. How has printmaking assisted with–and responded to–creating an aesthetic of change? This exhibition features 42 regional and national artists who embolden\, seek justice for\, and give voice to the various social justice and activist movements in the U.S. \n\n\n\nAwake! Printmaking in Action is organized and curated by the Ann Arbor Art Center in partnership with the Ann Arbor District Library's downtown branch location. Additional artwork can be seen at the AADL's downtown 2nd-floor gallery through May 28\, 2023.
URL:https://www.annarborartcenter.org/event/awake-printmaking-in-action-opening-reception-at-the-a2ac/
LOCATION:A2AC (Ann Arbor Art Center)\, 117 W Liberty\, Ann Arbor\, MI\, 48104\, United States
CATEGORIES:Exhibition Opening
ATTACH;FMTTYPE=image/jpeg:https://www.annarborartcenter.org/wp-content/uploads/2023/04/Awake-Printmaking-A2AC-Opening.jpg
END:VEVENT
BEGIN:VEVENT
DTSTART;TZID=America/Detroit:20230505T170000
DTEND;TZID=America/Detroit:20230505T200000
DTSTAMP:20260420T083928
CREATED:20230413T164112Z
LAST-MODIFIED:20230504T171916Z
UID:10000035-1683306000-1683316800@www.annarborartcenter.org
SUMMARY:Maternal Interior Opening Reception
DESCRIPTION:Join us for the Opening Reception of the Maternal Interior exhibition in the A2AC Gallery. We are proud to host guest curators Lee Nowell-Wilson (Baltimore)\, Alana DeRiggi (Ann Arbor)\, and Gina Balibrera (Ann Arbor) for this new multidisciplinary exhibition featuring 11 visual artists in conjunction with 12 writers\, who turn their gaze inward toward their personal journeys of motherhood. This exhibition aims to broadly capture questions of relationship\, the "inner" and the "surrounding" while building a collective display of the many layers of maternity. \n\n\n\nThe Opening will feature curators and participating artists/authors. The event will coincide with the A2AC opening reception for the Spotlight Gallery's Awake! Printmaking in Action exhibition and the A2 Gallery Hop event featuring six galleries around the city. Bring new formula\, wipes\, or diapers to the opening to stock RISE Wellness Collaborative's Formula Pantry.
URL:https://www.annarborartcenter.org/event/maternal-interior-opening-reception/
LOCATION:A2AC Gallery\, 117 W Liberty\, Ann Arbor\, MI\, 48104\, United States
CATEGORIES:Exhibition Opening
ATTACH;FMTTYPE=image/jpeg:https://www.annarborartcenter.org/wp-content/uploads/2023/04/Maternal-opening-sqare-1.jpg
END:VEVENT
BEGIN:VEVENT
DTSTART;TZID=America/Detroit:20230506T120000
DTEND;TZID=America/Detroit:20230506T150000
DTSTAMP:20260420T083928
CREATED:20230421T125549Z
LAST-MODIFIED:20230425T130112Z
UID:10000038-1683374400-1683385200@www.annarborartcenter.org
SUMMARY:Mother's Day Pop-Up at the A2AC Shop
DESCRIPTION:Join us for a special pre-Mother's Day Pop-Up at the A2AC Shop. You won't want to miss the four guest artists whose work could make the perfect gifts for the Moms in your life. \n\n\n\nArtists include:Stacey Malasky (Prints\, textile)Anusree Sattaluri (ceramics\, prints)Teresa Petersen (original collage and prints)Jessica Tenbusch (mixed media originals\, prints\, jewelry)
URL:https://www.annarborartcenter.org/event/mothers-day-pop-up-at-the-a2ac-shop/
LOCATION:A2AC (Ann Arbor Art Center)\, 117 W Liberty\, Ann Arbor\, MI\, 48104\, United States
CATEGORIES:Pop-Ups
ATTACH;FMTTYPE=image/jpeg:https://www.annarborartcenter.org/wp-content/uploads/2023/04/Mothers-Day-23-Shop-Pop-Up-event-1.jpg
END:VEVENT
END:VCALENDAR