BEGIN:VCALENDAR
VERSION:2.0
PRODID:-//Ann Arbor Art Center - ECPv6.15.20//NONSGML v1.0//EN
CALSCALE:GREGORIAN
METHOD:PUBLISH
X-WR-CALNAME:Ann Arbor Art Center
X-ORIGINAL-URL:https://www.annarborartcenter.org
X-WR-CALDESC:Events for Ann Arbor Art Center
REFRESH-INTERVAL;VALUE=DURATION:PT1H
X-Robots-Tag:noindex
X-PUBLISHED-TTL:PT1H
BEGIN:VTIMEZONE
TZID:America/Detroit
BEGIN:DAYLIGHT
TZOFFSETFROM:-0500
TZOFFSETTO:-0400
TZNAME:EDT
DTSTART:20220313T070000
END:DAYLIGHT
BEGIN:STANDARD
TZOFFSETFROM:-0400
TZOFFSETTO:-0500
TZNAME:EST
DTSTART:20221106T060000
END:STANDARD
BEGIN:DAYLIGHT
TZOFFSETFROM:-0500
TZOFFSETTO:-0400
TZNAME:EDT
DTSTART:20230312T070000
END:DAYLIGHT
BEGIN:STANDARD
TZOFFSETFROM:-0400
TZOFFSETTO:-0500
TZNAME:EST
DTSTART:20231105T060000
END:STANDARD
BEGIN:DAYLIGHT
TZOFFSETFROM:-0500
TZOFFSETTO:-0400
TZNAME:EDT
DTSTART:20240310T070000
END:DAYLIGHT
BEGIN:STANDARD
TZOFFSETFROM:-0400
TZOFFSETTO:-0500
TZNAME:EST
DTSTART:20241103T060000
END:STANDARD
END:VTIMEZONE
BEGIN:VEVENT
DTSTART;TZID=America/Detroit:20230517T070000
DTEND;TZID=America/Detroit:20230517T070000
DTSTAMP:20260422T045355
CREATED:20230413T185135Z
LAST-MODIFIED:20231129T112813Z
UID:10000036-1684306800-1684306800@www.annarborartcenter.org
SUMMARY:Summer Art Classes Open for Members
DESCRIPTION:Things are heating up this summer at the A2AC! Mark your calendars for Summer Art Class registration\, opening May 17 for members and May 19 for all. By becoming a member\, you'll not only be supporting a 501(c)3 organization\, ensuring a home for the visual arts in your community\, but it will also allow you to secure a spot in your most anticipated classes before they open to the public. Consider becoming an A2AC Member today here: https://www.annarborartcenter.org/get-involved/memberships/
URL:https://www.annarborartcenter.org/event/summer-art-classes-open-for-members/
LOCATION:A2AC (Ann Arbor Art Center)\, 117 W Liberty\, Ann Arbor\, MI\, 48104\, United States
CATEGORIES:Education Term Launches
ATTACH;FMTTYPE=image/jpeg:https://www.annarborartcenter.org/wp-content/uploads/2023/04/Summer-Term-23-members-event.jpg
END:VEVENT
BEGIN:VEVENT
DTSTART;TZID=America/Detroit:20230519T070000
DTEND;TZID=America/Detroit:20230519T070000
DTSTAMP:20260422T045355
CREATED:20230413T185343Z
LAST-MODIFIED:20230413T185344Z
UID:10000037-1684479600-1684479600@www.annarborartcenter.org
SUMMARY:Summer Art Classes Open for ALL
DESCRIPTION:Beat the heat with a summer art class at the A2AC!
URL:https://www.annarborartcenter.org/event/summer-art-classes-open-for-all/
LOCATION:A2AC (Ann Arbor Art Center)\, 117 W Liberty\, Ann Arbor\, MI\, 48104\, United States
CATEGORIES:Education Term Launches
ATTACH;FMTTYPE=image/jpeg:https://www.annarborartcenter.org/wp-content/uploads/2023/04/Summer-Term-23-ALL-event.jpg
END:VEVENT
END:VCALENDAR