BEGIN:VCALENDAR
VERSION:2.0
PRODID:-//Ann Arbor Art Center - ECPv6.15.20//NONSGML v1.0//EN
CALSCALE:GREGORIAN
METHOD:PUBLISH
X-WR-CALNAME:Ann Arbor Art Center
X-ORIGINAL-URL:https://www.annarborartcenter.org
X-WR-CALDESC:Events for Ann Arbor Art Center
REFRESH-INTERVAL;VALUE=DURATION:PT1H
X-Robots-Tag:noindex
X-PUBLISHED-TTL:PT1H
BEGIN:VTIMEZONE
TZID:America/Detroit
BEGIN:DAYLIGHT
TZOFFSETFROM:-0500
TZOFFSETTO:-0400
TZNAME:EDT
DTSTART:20220313T070000
END:DAYLIGHT
BEGIN:STANDARD
TZOFFSETFROM:-0400
TZOFFSETTO:-0500
TZNAME:EST
DTSTART:20221106T060000
END:STANDARD
BEGIN:DAYLIGHT
TZOFFSETFROM:-0500
TZOFFSETTO:-0400
TZNAME:EDT
DTSTART:20230312T070000
END:DAYLIGHT
BEGIN:STANDARD
TZOFFSETFROM:-0400
TZOFFSETTO:-0500
TZNAME:EST
DTSTART:20231105T060000
END:STANDARD
BEGIN:DAYLIGHT
TZOFFSETFROM:-0500
TZOFFSETTO:-0400
TZNAME:EDT
DTSTART:20240310T070000
END:DAYLIGHT
BEGIN:STANDARD
TZOFFSETFROM:-0400
TZOFFSETTO:-0500
TZNAME:EST
DTSTART:20241103T060000
END:STANDARD
END:VTIMEZONE
BEGIN:VEVENT
DTSTART;TZID=America/Detroit:20231027T070000
DTEND;TZID=America/Detroit:20231027T070000
DTSTAMP:20260423T074635
CREATED:20231005T133241Z
LAST-MODIFIED:20231024T143415Z
UID:10000068-1698390000-1698390000@www.annarborartcenter.org
SUMMARY:Winter Workshops Open for Registration
DESCRIPTION:Get your creative juices flowing this winter with our exciting lineup of art workshops! 🎨🌬️ Join us on Friday\, October 27\, 2023\, at 7am to secure your spot. Don't let the winter blues dampen your artistic spirit – mark your calendars now!  \n\n\n\n\n\n\nSEE ALL UPCOMING CLASSES
URL:https://www.annarborartcenter.org/event/winter-workshops-open-for-registration/
LOCATION:MI
CATEGORIES:Education,Education Term Launches
ATTACH;FMTTYPE=image/jpeg:https://www.annarborartcenter.org/wp-content/uploads/2023/10/Winter-Workshops-23-COMING-events.jpg
END:VEVENT
BEGIN:VEVENT
DTSTART;TZID=America/Detroit:20231029T120000
DTEND;TZID=America/Detroit:20231029T143000
DTSTAMP:20260423T074635
CREATED:20231023T175115Z
LAST-MODIFIED:20231023T175117Z
UID:10000078-1698580800-1698589800@www.annarborartcenter.org
SUMMARY:Halloween Coloring Contest
DESCRIPTION:After Main Street's Downtown Ann Arbor Trick-or-Treater Parade\, bring the kiddos to the A2AC Gallery for a spook-tastic Halloween Coloring Contest\, featuring a coloring sheet by A2AC Shop artist Sophia Zhou! \n\n\n\nThe winner will receive a “Young Artist Box” filled with fun artmaking supplies. \n\n\n\nThis programming is part of Main Street Ann Arbor’s Downtown Ann Arbor Trick-or-Treating event. \n\n\n\n\nMORE ABOUT A2's TRICK-OR-TREATING EVENTS\n\n\n\n\n\n\n\n\n\nLEARN ABOUT SOPHIA ZHOU!\n\n\n\n\n\n\n\n\n\n\npresented by
URL:https://www.annarborartcenter.org/event/halloween-coloring-contest/
LOCATION:A2AC Gallery\, 117 W Liberty\, Ann Arbor\, MI\, 48104\, United States
CATEGORIES:Free Family Drop-Ins
ATTACH;FMTTYPE=image/jpeg:https://www.annarborartcenter.org/wp-content/uploads/2023/10/Halloween-coloring-event.jpg
END:VEVENT
END:VCALENDAR